BEGIN:VCALENDAR
VERSION:2.0
PRODID:-//172.22.3.23//NONSGML kigkonsult.se iCalcreator 2.39.1//
CALSCALE:GREGORIAN
UID:8598987a-737e-4519-93e8-32e066081a56
X-WR-TIMEZONE:Europe/Berlin
X-WR-CALNAME:www.datefix.de
X-WR-CALDESC:www.datefix.de Veranstaltungskalender
BEGIN:VTIMEZONE
TZID:Europe/Berlin
BEGIN:STANDARD
TZNAME:CET
DTSTART:20251026T030000
TZOFFSETFROM:+0200
TZOFFSETTO:+0100
RDATE:20261025T030000
END:STANDARD
BEGIN:DAYLIGHT
TZNAME:CEST
DTSTART:20250330T020000
TZOFFSETFROM:+0100
TZOFFSETTO:+0200
RDATE:20260329T020000
RDATE:20270328T020000
END:DAYLIGHT
END:VTIMEZONE
BEGIN:VEVENT
UID:50947da1-b42f-4c9b-a618-d3eb50baea46
DTSTAMP:20260423T103133Z
DESCRIPTION:Aufgrund der großen Nachfrage bieten wir Ihnen noch einmal den 
 literarischen Spaziergang zum Weltfrauentag an.\n\nWussten Sie schon\, das
 s auch Sie Soester Literarische Spaziergänge bei uns buchen können?\nEin b
 esondere Literaturerlebnis für Gruppen ab 5 Personen\n\nSie suchen ein auß
 ergewöhnliches Highlight für Ihren Geburtstag\, ein Vereinsfest oder Ihren
  Betriebsausflug? \nBuchen Sie für sich und Ihre Gruppe einen ganz persönl
 ichen „Literarischen Spaziergang“ und verbringen Sie 1-1½ kurzweilige Stun
 den auf einem zum Thema ausgewählten Rundgang durch die Soester Altstadt. 
 \nSuchen Sie aus den verschiedenen Themen Ihren Lieblingsspaziergang aus u
 nd verabreden Sie mit der Leiterin der Stadtbücherei\, Alexandra Eckel\, I
 hren Wunschtermin.\nZur Auswahl stehen bisher folgende Themen: Spazierenge
 hen durch die Literatur\, Vom Paradies und anderen Gärten\, Soester Sagen\
 , Tiere\, Bäume\, Gruseln\, Weihnachten\, Mittelalterliches\, Reisen\, Kri
 mi\, Liebe und starke Frauen.
DTSTART;TZID=Europe/Berlin:20260319T183000
DTEND;TZID=Europe/Berlin:20260319T213000
LOCATION:Stadtbücherei Soest\, Severinstraße 10\, 59494 Soest\,
SUMMARY:Starke Frauen - ein literarischer Spaziergang zum  Weltfrauentag
END:VEVENT
END:VCALENDAR
