BEGIN:VCALENDAR
VERSION:2.0
PRODID:-//172.22.3.23//NONSGML kigkonsult.se iCalcreator 2.39.1//
CALSCALE:GREGORIAN
UID:b412859c-4498-47dc-9a88-c48f636d7d23
X-WR-TIMEZONE:Europe/Berlin
X-WR-CALNAME:www.datefix.de
X-WR-CALDESC:www.datefix.de Veranstaltungskalender
BEGIN:VTIMEZONE
TZID:Europe/Berlin
BEGIN:STANDARD
TZNAME:CET
DTSTART:20261025T030000
TZOFFSETFROM:+0200
TZOFFSETTO:+0100
RDATE:20271031T030000
RDATE:20281029T030000
END:STANDARD
BEGIN:DAYLIGHT
TZNAME:CEST
DTSTART:20270328T020000
TZOFFSETFROM:+0100
TZOFFSETTO:+0200
RDATE:20280326T020000
END:DAYLIGHT
END:VTIMEZONE
BEGIN:VEVENT
UID:b60a28b9-5249-41fe-bc0c-d8f774cffd48
DTSTAMP:20260423T162533Z
DESCRIPTION:
DTSTART;TZID=Europe/Berlin:20270819T100000
DTEND;TZID=Europe/Berlin:20270819T140000
LOCATION:Kulturquartier Gesamt\, Ulrichertor 4\, 59494 Soest\,
SUMMARY:Kreativwerkstatt
END:VEVENT
END:VCALENDAR
