BEGIN:VCALENDAR
VERSION:2.0
PRODID:-//172.22.3.23//NONSGML kigkonsult.se iCalcreator 2.39.1//
CALSCALE:GREGORIAN
UID:0a1339ff-f909-4b45-a383-2fd08f66107f
X-WR-TIMEZONE:Europe/Berlin
X-WR-CALNAME:www.datefix.de
X-WR-CALDESC:www.datefix.de Veranstaltungskalender
BEGIN:VTIMEZONE
TZID:Europe/Berlin
BEGIN:STANDARD
TZNAME:CET
DTSTART:20261025T030000
TZOFFSETFROM:+0200
TZOFFSETTO:+0100
RDATE:20271031T030000
RDATE:20281029T030000
END:STANDARD
BEGIN:DAYLIGHT
TZNAME:CEST
DTSTART:20270328T020000
TZOFFSETFROM:+0100
TZOFFSETTO:+0200
RDATE:20280326T020000
END:DAYLIGHT
END:VTIMEZONE
BEGIN:VEVENT
UID:b2a227c9-9c76-4fc3-b6c7-1ad1758e3760
DTSTAMP:20260423T162515Z
DESCRIPTION:
DTSTART;TZID=Europe/Berlin:20270826T100000
DTEND;TZID=Europe/Berlin:20270826T140000
LOCATION:Kulturquartier Gesamt\, Ulrichertor 4\, 59494 Soest\,
SUMMARY:Kreativwerkstatt
END:VEVENT
END:VCALENDAR
