BEGIN:VCALENDAR
VERSION:2.0
PRODID:-//172.22.3.23//NONSGML kigkonsult.se iCalcreator 2.39.1//
CALSCALE:GREGORIAN
UID:00225a77-9e08-4e5d-9f39-a3fba6b5c905
X-WR-TIMEZONE:Europe/Berlin
X-WR-CALNAME:www.datefix.de
X-WR-CALDESC:www.datefix.de Veranstaltungskalender
BEGIN:VTIMEZONE
TZID:Europe/Berlin
BEGIN:STANDARD
TZNAME:CET
DTSTART:20271031T030000
TZOFFSETFROM:+0200
TZOFFSETTO:+0100
RDATE:20281029T030000
END:STANDARD
BEGIN:DAYLIGHT
TZNAME:CEST
DTSTART:20270328T020000
TZOFFSETFROM:+0100
TZOFFSETTO:+0200
RDATE:20280326T020000
RDATE:20290325T020000
END:DAYLIGHT
END:VTIMEZONE
BEGIN:VEVENT
UID:b9940e90-405c-4d1f-8cf1-11c9fa380047
DTSTAMP:20260423T162517Z
DESCRIPTION:
DTSTART;TZID=Europe/Berlin:20271202T100000
DTEND;TZID=Europe/Berlin:20271202T140000
LOCATION:Kulturquartier Gesamt\, Ulrichertor 4\, 59494 Soest\,
SUMMARY:Kreativwerkstatt
END:VEVENT
END:VCALENDAR
