BEGIN:VCALENDAR
VERSION:2.0
PRODID:-//172.22.3.23//NONSGML kigkonsult.se iCalcreator 2.39.1//
CALSCALE:GREGORIAN
UID:329cff64-0b3e-4ba3-8af9-58ff4a5c72c8
X-WR-TIMEZONE:Europe/Berlin
X-WR-CALNAME:www.datefix.de
X-WR-CALDESC:www.datefix.de Veranstaltungskalender
BEGIN:VTIMEZONE
TZID:Europe/Berlin
BEGIN:STANDARD
TZNAME:CET
DTSTART:20271031T030000
TZOFFSETFROM:+0200
TZOFFSETTO:+0100
RDATE:20281029T030000
END:STANDARD
BEGIN:DAYLIGHT
TZNAME:CEST
DTSTART:20270328T020000
TZOFFSETFROM:+0100
TZOFFSETTO:+0200
RDATE:20280326T020000
RDATE:20290325T020000
END:DAYLIGHT
END:VTIMEZONE
BEGIN:VEVENT
UID:9a6943ae-87d6-410f-a8e7-1f36fba71100
DTSTAMP:20260423T165217Z
DESCRIPTION:
DTSTART;TZID=Europe/Berlin:20280217T140000
DTEND;TZID=Europe/Berlin:20280217T190000
LOCATION:KulturQuartier - Spiegelraum\, Ulrichertor 4\, 59494 Soest\,
SUMMARY:Repaircafe Soest
END:VEVENT
END:VCALENDAR
