BEGIN:VCALENDAR
VERSION:2.0
PRODID:-//172.22.3.23//NONSGML kigkonsult.se iCalcreator 2.39.1//
CALSCALE:GREGORIAN
UID:54afeac5-fb6c-45f4-bee0-74e5106077a1
X-WR-TIMEZONE:Europe/Berlin
X-WR-CALNAME:www.datefix.de
X-WR-CALDESC:www.datefix.de Veranstaltungskalender
BEGIN:VTIMEZONE
TZID:Europe/Berlin
BEGIN:STANDARD
TZNAME:CET
DTSTART:20271031T030000
TZOFFSETFROM:+0200
TZOFFSETTO:+0100
RDATE:20281029T030000
RDATE:20291028T030000
END:STANDARD
BEGIN:DAYLIGHT
TZNAME:CEST
DTSTART:20280326T020000
TZOFFSETFROM:+0100
TZOFFSETTO:+0200
RDATE:20290325T020000
END:DAYLIGHT
END:VTIMEZONE
BEGIN:VEVENT
UID:d2cea6fa-e1ad-4dcf-ae6b-09b6aad64c81
DTSTAMP:20260423T152809Z
DESCRIPTION:
DTSTART;TZID=Europe/Berlin:20280720T140000
DTEND;TZID=Europe/Berlin:20280720T190000
LOCATION:KulturQuartier - Spiegelraum\, Ulrichertor 4\, 59494 Soest\,
SUMMARY:Repaircafe Soest
END:VEVENT
END:VCALENDAR
