BEGIN:VCALENDAR
VERSION:2.0
PRODID:-//172.22.3.23//NONSGML kigkonsult.se iCalcreator 2.39.1//
CALSCALE:GREGORIAN
UID:94f0a1a2-b6f5-4ebc-a639-0be785f46961
X-WR-TIMEZONE:Europe/Berlin
X-WR-CALNAME:www.datefix.de
X-WR-CALDESC:www.datefix.de Veranstaltungskalender
BEGIN:VTIMEZONE
TZID:Europe/Berlin
BEGIN:STANDARD
TZNAME:CET
DTSTART:20261025T030000
TZOFFSETFROM:+0200
TZOFFSETTO:+0100
RDATE:20271031T030000
RDATE:20281029T030000
END:STANDARD
BEGIN:DAYLIGHT
TZNAME:CEST
DTSTART:20270328T020000
TZOFFSETFROM:+0100
TZOFFSETTO:+0200
RDATE:20280326T020000
END:DAYLIGHT
END:VTIMEZONE
BEGIN:VEVENT
UID:d8289201-d77c-4da3-af2d-3eb85def7a0f
DTSTAMP:20260423T194822Z
DESCRIPTION:
DTSTART;TZID=Europe/Berlin:20270721T193000
DTEND;TZID=Europe/Berlin:20270721T210000
LOCATION:KulturQuartier - Spiegelraum\, Ulrichertor 4\, 59494 Soest\,
SUMMARY:Impro-Theater
END:VEVENT
END:VCALENDAR
