BEGIN:VCALENDAR
VERSION:2.0
PRODID:-//172.22.3.23//NONSGML kigkonsult.se iCalcreator 2.39.1//
CALSCALE:GREGORIAN
UID:18931ff3-c0e6-47e0-ba03-133eafc9bedd
X-WR-TIMEZONE:Europe/Berlin
X-WR-CALNAME:www.datefix.de
X-WR-CALDESC:www.datefix.de Veranstaltungskalender
BEGIN:VTIMEZONE
TZID:Europe/Berlin
BEGIN:STANDARD
TZNAME:CET
DTSTART:20271031T030000
TZOFFSETFROM:+0200
TZOFFSETTO:+0100
RDATE:20281029T030000
END:STANDARD
BEGIN:DAYLIGHT
TZNAME:CEST
DTSTART:20270328T020000
TZOFFSETFROM:+0100
TZOFFSETTO:+0200
RDATE:20280326T020000
RDATE:20290325T020000
END:DAYLIGHT
END:VTIMEZONE
BEGIN:VEVENT
UID:d2240aa5-cfc8-4e3b-ba12-db66d88f908f
DTSTAMP:20260423T151320Z
DESCRIPTION:
DTSTART;TZID=Europe/Berlin:20271215T193000
DTEND;TZID=Europe/Berlin:20271215T210000
LOCATION:KulturQuartier - Spiegelraum\, Ulrichertor 4\, 59494 Soest\,
SUMMARY:Impro-Theater
END:VEVENT
END:VCALENDAR
