BEGIN:VCALENDAR
VERSION:2.0
PRODID:-//172.22.3.23//NONSGML kigkonsult.se iCalcreator 2.39.1//
CALSCALE:GREGORIAN
UID:96a1f4a8-9a03-49b8-a0c4-b0307e268567
X-WR-TIMEZONE:Europe/Berlin
X-WR-CALNAME:www.datefix.de
X-WR-CALDESC:www.datefix.de Veranstaltungskalender
BEGIN:VTIMEZONE
TZID:Europe/Berlin
BEGIN:STANDARD
TZNAME:CET
DTSTART:20271031T030000
TZOFFSETFROM:+0200
TZOFFSETTO:+0100
RDATE:20281029T030000
RDATE:20291028T030000
END:STANDARD
BEGIN:DAYLIGHT
TZNAME:CEST
DTSTART:20280326T020000
TZOFFSETFROM:+0100
TZOFFSETTO:+0200
RDATE:20290325T020000
END:DAYLIGHT
END:VTIMEZONE
BEGIN:VEVENT
UID:478c6cca-faca-42f9-822a-7fbc38e5c089
DTSTAMP:20260423T152942Z
DESCRIPTION:
DTSTART;TZID=Europe/Berlin:20280524T193000
DTEND;TZID=Europe/Berlin:20280524T210000
LOCATION:KulturQuartier - Spiegelraum\, Ulrichertor 4\, 59494 Soest\,
SUMMARY:Impro-Theater
END:VEVENT
END:VCALENDAR
