BEGIN:VCALENDAR
VERSION:2.0
PRODID:-//172.22.3.23//NONSGML kigkonsult.se iCalcreator 2.39.1//
CALSCALE:GREGORIAN
UID:b5457b9a-862d-4cdb-bb92-c5ec2610b924
X-WR-TIMEZONE:Europe/Berlin
X-WR-CALNAME:www.datefix.de
X-WR-CALDESC:www.datefix.de Veranstaltungskalender
BEGIN:VTIMEZONE
TZID:Europe/Berlin
BEGIN:STANDARD
TZNAME:CET
DTSTART:20261025T030000
TZOFFSETFROM:+0200
TZOFFSETTO:+0100
RDATE:20271031T030000
END:STANDARD
BEGIN:DAYLIGHT
TZNAME:CEST
DTSTART:20270328T020000
TZOFFSETFROM:+0100
TZOFFSETTO:+0200
RDATE:20280326T020000
END:DAYLIGHT
END:VTIMEZONE
BEGIN:VEVENT
UID:87f5d136-41e7-4d3e-9448-7e15311bc680
DTSTAMP:20260424T004356Z
DESCRIPTION:
DTSTART;TZID=Europe/Berlin:20270427T160000
DTEND;TZID=Europe/Berlin:20270427T173000
LOCATION:KulturQuartier - Spiegelraum\, Ulrichertor 4\, 59494 Soest\,
SUMMARY:Bühne Frei
END:VEVENT
END:VCALENDAR
