BEGIN:VCALENDAR
VERSION:2.0
PRODID:-//172.22.3.23//NONSGML kigkonsult.se iCalcreator 2.39.1//
CALSCALE:GREGORIAN
UID:d34ad744-f7d1-4de7-93af-413db287300f
X-WR-TIMEZONE:Europe/Berlin
X-WR-CALNAME:www.datefix.de
X-WR-CALDESC:www.datefix.de Veranstaltungskalender
BEGIN:VTIMEZONE
TZID:Europe/Berlin
BEGIN:STANDARD
TZNAME:CET
DTSTART:20261025T030000
TZOFFSETFROM:+0200
TZOFFSETTO:+0100
RDATE:20271031T030000
RDATE:20281029T030000
END:STANDARD
BEGIN:DAYLIGHT
TZNAME:CEST
DTSTART:20270328T020000
TZOFFSETFROM:+0100
TZOFFSETTO:+0200
RDATE:20280326T020000
END:DAYLIGHT
END:VTIMEZONE
BEGIN:VEVENT
UID:cfd6a40b-d5c3-4c26-ad24-67f6879b2891
DTSTAMP:20260423T180934Z
DESCRIPTION:
DTSTART;TZID=Europe/Berlin:20270810T160000
DTEND;TZID=Europe/Berlin:20270810T173000
LOCATION:KulturQuartier - Spiegelraum\, Ulrichertor 4\, 59494 Soest\,
SUMMARY:Bühne Frei
END:VEVENT
END:VCALENDAR
