BEGIN:VCALENDAR
VERSION:2.0
PRODID:-//172.22.3.23//NONSGML kigkonsult.se iCalcreator 2.39.1//
CALSCALE:GREGORIAN
UID:6902b36e-96fc-4f9a-9d7b-635bbcd90adc
X-WR-TIMEZONE:Europe/Berlin
X-WR-CALNAME:www.datefix.de
X-WR-CALDESC:www.datefix.de Veranstaltungskalender
BEGIN:VTIMEZONE
TZID:Europe/Berlin
BEGIN:STANDARD
TZNAME:CET
DTSTART:20271031T030000
TZOFFSETFROM:+0200
TZOFFSETTO:+0100
RDATE:20281029T030000
END:STANDARD
BEGIN:DAYLIGHT
TZNAME:CEST
DTSTART:20280326T020000
TZOFFSETFROM:+0100
TZOFFSETTO:+0200
RDATE:20290325T020000
END:DAYLIGHT
END:VTIMEZONE
BEGIN:VEVENT
UID:f8073f95-13a5-41cd-a0d6-a5f91aaafc10
DTSTAMP:20260423T165243Z
DESCRIPTION:
DTSTART;TZID=Europe/Berlin:20280418T160000
DTEND;TZID=Europe/Berlin:20280418T173000
LOCATION:KulturQuartier - Spiegelraum\, Ulrichertor 4\, 59494 Soest\,
SUMMARY:Bühne Frei
END:VEVENT
END:VCALENDAR
