BEGIN:VCALENDAR
VERSION:2.0
PRODID:-//172.22.3.23//NONSGML kigkonsult.se iCalcreator 2.39.1//
CALSCALE:GREGORIAN
UID:d9e8dff9-d094-4e8a-9533-a0e1e976220a
X-WR-TIMEZONE:Europe/Berlin
X-WR-CALNAME:www.datefix.de
X-WR-CALDESC:www.datefix.de Veranstaltungskalender
BEGIN:VTIMEZONE
TZID:Europe/Berlin
BEGIN:STANDARD
TZNAME:CET
DTSTART:20271031T030000
TZOFFSETFROM:+0200
TZOFFSETTO:+0100
RDATE:20281029T030000
RDATE:20291028T030000
END:STANDARD
BEGIN:DAYLIGHT
TZNAME:CEST
DTSTART:20280326T020000
TZOFFSETFROM:+0100
TZOFFSETTO:+0200
RDATE:20290325T020000
END:DAYLIGHT
END:VTIMEZONE
BEGIN:VEVENT
UID:6ee236d8-3ca2-4f7e-bbff-148f345ea00e
DTSTAMP:20260423T135951Z
DESCRIPTION:
DTSTART;TZID=Europe/Berlin:20280725T160000
DTEND;TZID=Europe/Berlin:20280725T173000
LOCATION:KulturQuartier - Spiegelraum\, Ulrichertor 4\, 59494 Soest\,
SUMMARY:Bühne Frei
END:VEVENT
END:VCALENDAR
