BEGIN:VCALENDAR
VERSION:2.0
PRODID:-//172.22.3.23//NONSGML kigkonsult.se iCalcreator 2.39.1//
CALSCALE:GREGORIAN
UID:313fd09f-432e-4c02-8e7f-733121cd50fb
X-WR-TIMEZONE:Europe/Berlin
X-WR-CALNAME:www.datefix.de
X-WR-CALDESC:www.datefix.de Veranstaltungskalender
BEGIN:VTIMEZONE
TZID:Europe/Berlin
BEGIN:STANDARD
TZNAME:CET
DTSTART:20261025T030000
TZOFFSETFROM:+0200
TZOFFSETTO:+0100
RDATE:20271031T030000
END:STANDARD
BEGIN:DAYLIGHT
TZNAME:CEST
DTSTART:20260329T020000
TZOFFSETFROM:+0100
TZOFFSETTO:+0200
RDATE:20270328T020000
RDATE:20280326T020000
END:DAYLIGHT
END:VTIMEZONE
BEGIN:VEVENT
UID:8e293c0f-857e-45dc-af89-5c0c15a7ad16
DTSTAMP:20260423T194930Z
DESCRIPTION:
DTSTART;TZID=Europe/Berlin:20261108T100000
DTEND;TZID=Europe/Berlin:20261108T200000
LOCATION:KulturQuartier - Kreativraum\, Ulrichertor 4\, 59494 Soest\,
SUMMARY:Stammtisch der Soester Tabletop und TCG Freunde
END:VEVENT
END:VCALENDAR
