BEGIN:VCALENDAR
VERSION:2.0
PRODID:-//172.22.3.23//NONSGML kigkonsult.se iCalcreator 2.39.1//
CALSCALE:GREGORIAN
UID:d2608192-c552-47fb-8b10-08d4c24cddbb
X-WR-TIMEZONE:Europe/Berlin
X-WR-CALNAME:www.datefix.de
X-WR-CALDESC:www.datefix.de Veranstaltungskalender
BEGIN:VTIMEZONE
TZID:Europe/Berlin
BEGIN:STANDARD
TZNAME:CET
DTSTART:20251026T030000
TZOFFSETFROM:+0200
TZOFFSETTO:+0100
RDATE:20261025T030000
RDATE:20271031T030000
END:STANDARD
BEGIN:DAYLIGHT
TZNAME:CEST
DTSTART:20260329T020000
TZOFFSETFROM:+0100
TZOFFSETTO:+0200
RDATE:20270328T020000
RDATE:20280326T020000
END:DAYLIGHT
END:VTIMEZONE
BEGIN:VEVENT
UID:30fbbd5b-d18b-4bbe-a71f-5dc32e20b42f
DTSTAMP:20260423T195002Z
DESCRIPTION:
DTSTART;TZID=Europe/Berlin:20261021T170000
DTEND;TZID=Europe/Berlin:20261021T200000
LOCATION:KulturQuartier - Kreativraum\, Ulrichertor 4\, 59494 Soest\,
SUMMARY:Stammtisch der Soester Tabletop und TCG Freunde
END:VEVENT
END:VCALENDAR
