BEGIN:VCALENDAR
VERSION:2.0
PRODID:-//172.22.3.23//NONSGML kigkonsult.se iCalcreator 2.39.1//
CALSCALE:GREGORIAN
UID:4529e3c5-de68-45a2-9c46-3c9b9c972c46
X-WR-TIMEZONE:Europe/Berlin
X-WR-CALNAME:www.datefix.de
X-WR-CALDESC:www.datefix.de Veranstaltungskalender
BEGIN:VTIMEZONE
TZID:Europe/Berlin
BEGIN:STANDARD
TZNAME:CET
DTSTART:20251026T030000
TZOFFSETFROM:+0200
TZOFFSETTO:+0100
RDATE:20261025T030000
RDATE:20271031T030000
END:STANDARD
BEGIN:DAYLIGHT
TZNAME:CEST
DTSTART:20260329T020000
TZOFFSETFROM:+0100
TZOFFSETTO:+0200
RDATE:20270328T020000
RDATE:20280326T020000
END:DAYLIGHT
END:VTIMEZONE
BEGIN:VEVENT
UID:7a9f98eb-279e-48e4-8cfe-5fe5d1d33480
DTSTAMP:20260423T180908Z
DESCRIPTION:jeder kann kommen und seine Projekte machen - nähen\, malen\, z
 eichnen\, collagieren\, bauen\, stricken\, was auch immer. Material und We
 rkzeuge werden mitgebracht und vorhandene Sachen aus dem Quartier stehen z
 ur Verfügung.
DTSTART;TZID=Europe/Berlin:20260928T180000
DTEND;TZID=Europe/Berlin:20260928T210000
LOCATION:KulturQuartier - Kreativraum\, Ulrichertor 4\, 59494 Soest\,
SUMMARY:Kreativwerkstatt
END:VEVENT
END:VCALENDAR
