BEGIN:VCALENDAR
VERSION:2.0
PRODID:-//172.22.3.23//NONSGML kigkonsult.se iCalcreator 2.39.1//
CALSCALE:GREGORIAN
UID:cfd2a11b-0649-4e19-b0df-fb9b92c04dfc
X-WR-TIMEZONE:Europe/Berlin
X-WR-CALNAME:www.datefix.de
X-WR-CALDESC:www.datefix.de Veranstaltungskalender
BEGIN:VTIMEZONE
TZID:Europe/Berlin
BEGIN:STANDARD
TZNAME:CET
DTSTART:20261025T030000
TZOFFSETFROM:+0200
TZOFFSETTO:+0100
RDATE:20271031T030000
RDATE:20281029T030000
END:STANDARD
BEGIN:DAYLIGHT
TZNAME:CEST
DTSTART:20270328T020000
TZOFFSETFROM:+0100
TZOFFSETTO:+0200
RDATE:20280326T020000
RDATE:20290325T020000
END:DAYLIGHT
END:VTIMEZONE
BEGIN:VEVENT
UID:deb1e9e5-961a-44cf-8ff8-2b679a729a4b
DTSTAMP:20260423T164037Z
DESCRIPTION:jeder kann kommen und seine Projekte machen - nähen\, malen\, z
 eichnen\, collagieren\, bauen\, stricken\, was auch immer. Material und We
 rkzeuge werden mitgebracht und vorhandene Sachen aus dem Quartier stehen z
 ur Verfügung.
DTSTART;TZID=Europe/Berlin:20270927T180000
DTEND;TZID=Europe/Berlin:20270927T210000
LOCATION:KulturQuartier - Kreativraum\, Ulrichertor 4\, 59494 Soest\,
SUMMARY:Kreativwerkstatt
END:VEVENT
END:VCALENDAR
