BEGIN:VCALENDAR
VERSION:2.0
PRODID:-//172.22.3.23//NONSGML kigkonsult.se iCalcreator 2.39.1//
CALSCALE:GREGORIAN
UID:f4ff02c8-fc29-488a-8eaf-3f88656f89b8
X-WR-TIMEZONE:Europe/Berlin
X-WR-CALNAME:www.datefix.de
X-WR-CALDESC:www.datefix.de Veranstaltungskalender
BEGIN:VTIMEZONE
TZID:Europe/Berlin
BEGIN:STANDARD
TZNAME:CET
DTSTART:20251026T030000
TZOFFSETFROM:+0200
TZOFFSETTO:+0100
RDATE:20261025T030000
RDATE:20271031T030000
END:STANDARD
BEGIN:DAYLIGHT
TZNAME:CEST
DTSTART:20260329T020000
TZOFFSETFROM:+0100
TZOFFSETTO:+0200
RDATE:20270328T020000
RDATE:20280326T020000
END:DAYLIGHT
END:VTIMEZONE
BEGIN:VEVENT
UID:e7994ef3-46b7-47b1-93e8-0734b2faf92b
DTSTAMP:20260423T152927Z
DESCRIPTION:Wir bringen Menschen zusammen\, die dieselbe Leidenschaft teile
 n – egal ob du seit 20 Jahren auflegst\, Veranstaltungen planst oder einfa
 ch neugierig auf die Szene bist. DJ KULTUR ist ein Kollektiv aus DJs\, Ver
 anstalter:innen und Interessierten\, das auf Austausch\, gegenseitigen Sup
 port und gemeinsames Lernen setzt.<br /><br />\nBeim offenen Treffen sprec
 hen wir über alles\, was unsere Szene bewegt\, teilen Erfahrungen und Idee
 n\, und geben Einblicke in aktuelle und kommende Workshops.<br /><br />\nO
 pen for everyone – komm vorbei\, bring dich ein\, lern uns kennen.
DTSTART;TZID=Europe/Berlin:20261006T183000
DTEND;TZID=Europe/Berlin:20261006T220000
LOCATION:KulturQuartier - Spiegelraum\, Ulrichertor 4\, 59494 Soest\,
SUMMARY:DJ Kultur Soest
END:VEVENT
END:VCALENDAR
