BEGIN:VCALENDAR
VERSION:2.0
PRODID:-//172.22.3.23//NONSGML kigkonsult.se iCalcreator 2.39.1//
CALSCALE:GREGORIAN
UID:62cfd315-aabf-4e0f-8a66-1edb4d26f100
X-WR-TIMEZONE:Europe/Berlin
X-WR-CALNAME:www.datefix.de
X-WR-CALDESC:www.datefix.de Veranstaltungskalender
BEGIN:VTIMEZONE
TZID:Europe/Berlin
BEGIN:STANDARD
TZNAME:CET
DTSTART:20261025T030000
TZOFFSETFROM:+0200
TZOFFSETTO:+0100
RDATE:20271031T030000
END:STANDARD
BEGIN:DAYLIGHT
TZNAME:CEST
DTSTART:20270328T020000
TZOFFSETFROM:+0100
TZOFFSETTO:+0200
RDATE:20280326T020000
END:DAYLIGHT
END:VTIMEZONE
BEGIN:VEVENT
UID:0b9eb29c-8464-4b5f-8dd6-8f5d5a21adaf
DTSTAMP:20260423T152803Z
DESCRIPTION:
DTSTART;TZID=Europe/Berlin:20270415T140000
DTEND;TZID=Europe/Berlin:20270415T190000
LOCATION:KulturQuartier - Kreativraum\, Ulrichertor 4\, 59494 Soest\,
SUMMARY:Repaircafe Soest
END:VEVENT
END:VCALENDAR
