BEGIN:VCALENDAR
VERSION:2.0
PRODID:-//172.22.3.23//NONSGML kigkonsult.se iCalcreator 2.39.1//
CALSCALE:GREGORIAN
UID:fe4ac537-22f6-4ab1-96ca-af5e4e393a1a
X-WR-TIMEZONE:Europe/Berlin
X-WR-CALNAME:www.datefix.de
X-WR-CALDESC:www.datefix.de Veranstaltungskalender
BEGIN:VTIMEZONE
TZID:Europe/Berlin
BEGIN:STANDARD
TZNAME:CET
DTSTART:20261025T030000
TZOFFSETFROM:+0200
TZOFFSETTO:+0100
RDATE:20271031T030000
RDATE:20281029T030000
END:STANDARD
BEGIN:DAYLIGHT
TZNAME:CEST
DTSTART:20270328T020000
TZOFFSETFROM:+0100
TZOFFSETTO:+0200
RDATE:20280326T020000
END:DAYLIGHT
END:VTIMEZONE
BEGIN:VEVENT
UID:6a11f33b-127a-40fa-bd4d-ff51e89c8f21
DTSTAMP:20260423T162950Z
DESCRIPTION:
DTSTART;TZID=Europe/Berlin:20270916T140000
DTEND;TZID=Europe/Berlin:20270916T190000
LOCATION:KulturQuartier - Kreativraum\, Ulrichertor 4\, 59494 Soest\,
SUMMARY:Repaircafe Soest
END:VEVENT
END:VCALENDAR
