BEGIN:VCALENDAR
VERSION:2.0
PRODID:-//172.22.3.23//NONSGML kigkonsult.se iCalcreator 2.39.1//
CALSCALE:GREGORIAN
UID:30540fdb-3591-4c2c-ab99-7f2fc739ac09
X-WR-TIMEZONE:Europe/Berlin
X-WR-CALNAME:www.datefix.de
X-WR-CALDESC:www.datefix.de Veranstaltungskalender
BEGIN:VTIMEZONE
TZID:Europe/Berlin
BEGIN:STANDARD
TZNAME:CET
DTSTART:20281029T030000
TZOFFSETFROM:+0200
TZOFFSETTO:+0100
RDATE:20291028T030000
END:STANDARD
BEGIN:DAYLIGHT
TZNAME:CEST
DTSTART:20280326T020000
TZOFFSETFROM:+0100
TZOFFSETTO:+0200
RDATE:20290325T020000
RDATE:20300331T020000
END:DAYLIGHT
END:VTIMEZONE
BEGIN:VEVENT
UID:1a6b0397-465a-4bb2-94d1-b662680a21d9
DTSTAMP:20260423T133158Z
DESCRIPTION:
DTSTART;TZID=Europe/Berlin:20281116T140000
DTEND;TZID=Europe/Berlin:20281116T190000
LOCATION:KulturQuartier - Kreativraum\, Ulrichertor 4\, 59494 Soest\,
SUMMARY:Repaircafe Soest
END:VEVENT
END:VCALENDAR
