BEGIN:VCALENDAR
VERSION:2.0
PRODID:-//172.22.3.23//NONSGML kigkonsult.se iCalcreator 2.39.1//
CALSCALE:GREGORIAN
UID:4f761679-88b2-4ba2-899f-87e0bab62179
X-WR-TIMEZONE:Europe/Berlin
X-WR-CALNAME:www.datefix.de
X-WR-CALDESC:www.datefix.de Veranstaltungskalender
BEGIN:VTIMEZONE
TZID:Europe/Berlin
BEGIN:STANDARD
TZNAME:CET
DTSTART:20281029T030000
TZOFFSETFROM:+0200
TZOFFSETTO:+0100
RDATE:20291028T030000
END:STANDARD
BEGIN:DAYLIGHT
TZNAME:CEST
DTSTART:20280326T020000
TZOFFSETFROM:+0100
TZOFFSETTO:+0200
RDATE:20290325T020000
RDATE:20300331T020000
END:DAYLIGHT
END:VTIMEZONE
BEGIN:VEVENT
UID:c30b1616-35b1-4010-881f-192a7b9bb550
DTSTAMP:20260423T134550Z
DESCRIPTION:
DTSTART;TZID=Europe/Berlin:20281221T140000
DTEND;TZID=Europe/Berlin:20281221T190000
LOCATION:KulturQuartier - Kreativraum\, Ulrichertor 4\, 59494 Soest\,
SUMMARY:Repaircafe Soest
END:VEVENT
END:VCALENDAR
