BEGIN:VCALENDAR
VERSION:2.0
PRODID:-//172.22.3.23//NONSGML kigkonsult.se iCalcreator 2.39.1//
CALSCALE:GREGORIAN
UID:29263b70-c8e6-426a-ac8b-0b1d371b2352
X-WR-TIMEZONE:Europe/Berlin
X-WR-CALNAME:www.datefix.de
X-WR-CALDESC:www.datefix.de Veranstaltungskalender
BEGIN:VTIMEZONE
TZID:Europe/Berlin
BEGIN:STANDARD
TZNAME:CET
DTSTART:20251026T030000
TZOFFSETFROM:+0200
TZOFFSETTO:+0100
RDATE:20261025T030000
END:STANDARD
BEGIN:DAYLIGHT
TZNAME:CEST
DTSTART:20260329T020000
TZOFFSETFROM:+0100
TZOFFSETTO:+0200
RDATE:20270328T020000
END:DAYLIGHT
END:VTIMEZONE
BEGIN:VEVENT
UID:8cd4dfbf-c687-423a-9068-f426dbee644f
DTSTAMP:20260424T143057Z
DESCRIPTION:Das Künstlerhaus BEM Adam lädt herzlich zur Eröffnung der Ausst
 ellung „TEINI DUO“ ein.\n\nMit der Ausstellung „TEINI DUO“ werden die Arbe
 iten zweier junger Künstlerinnen aus dem Verein präsentiert. Ziel ist es\,
  bewusst Raum für neue Stimmen zu schaffen und erste Einblicke in künstler
 ische Entwicklungen zu ermöglichen – verbunden mit der Einladung\, Talente
  frühzeitig zu entdecken und zu begleiten.\n\nJoana Frevel entwickelt in i
 hren Arbeiten eine abstrakte Bildsprache\, die sich aus der Überlagerung v
 on Acryl\, Öl und Graffiti-Elementen speist. Referenzen an Unterwasserwelt
 en\, landschaftliche Strukturen und kosmische Ordnungen verdichten sich zu
  dynamischen Kompositionen\, in denen Farbe und Bewegung als zentrale Ausd
 rucksträger fungieren.\n\nDem gegenüber stehen die Werke von Mareike Doden
 hoff\, deren Ansatz stärker subjektiv geprägt ist. Ihre Bilder lassen sich
  als visuelle Verdichtungen persönlicher Erfahrungen und emotionaler Zustä
 nde lesen\, wobei eine bemerkenswerte Unmittelbarkeit und Authentizität di
 e Rezeption bestimmen.\n\nVernissage: Samstag\, 25.04.2026\, 19 Uhr\nFinis
 sage: Sonntag\, 28.06.2026\, 14–17 Uhr\nÖffnungszeiten: sonntags 14–17 Uhr
  sowie nach Absprache unter vorstand@kuenstlerhaus-bem-adam.de\n\nDer Eint
 ritt ist frei.\n\nNach Möglichkeit wird um eine Anreise mit öffentlichen V
 erkehrsmitteln\, zu Fuß oder mit dem Fahrrad gebeten.
DTSTART;TZID=Europe/Berlin:20260425T170000
DTEND;TZID=Europe/Berlin:20260425T190000
LOCATION:Künstlerhaus BEM Adam\, Teinenkamp 43\, 59494 Soest\,
SUMMARY:AUSSTELLUNG 'TEINI DUO'
END:VEVENT
END:VCALENDAR
