BEGIN:VCALENDAR
VERSION:2.0
PRODID:-//172.22.3.23//NONSGML kigkonsult.se iCalcreator 2.39.1//
CALSCALE:GREGORIAN
UID:6f08a2df-4e66-4c62-9b2a-4dea2c775027
X-WR-TIMEZONE:Europe/Berlin
X-WR-CALNAME:www.datefix.de
X-WR-CALDESC:www.datefix.de Veranstaltungskalender
BEGIN:VTIMEZONE
TZID:Europe/Berlin
BEGIN:STANDARD
TZNAME:CET
DTSTART:20251026T030000
TZOFFSETFROM:+0200
TZOFFSETTO:+0100
RDATE:20261025T030000
END:STANDARD
BEGIN:DAYLIGHT
TZNAME:CEST
DTSTART:20260329T020000
TZOFFSETFROM:+0100
TZOFFSETTO:+0200
RDATE:20270328T020000
END:DAYLIGHT
END:VTIMEZONE
BEGIN:VEVENT
UID:b22956a9-3cee-45ec-943f-27cebb840196
DTSTAMP:20260425T150029Z
DESCRIPTION:Statt Wait For June wird am Samstag Abend Tom Klose für uns spi
 elen!\n\nTom Klose ist ein Mann der Gegensätze: Stets von seiner treuen Gi
 tarre begleitet\, singt er mal mit zarter \nzerbrechlicher Kopfstimme\, ma
 l mit harter mächtiger Bruststimme. Dabei präsentiert er sein Herz auf \nd
 em Silbertablett\, mit einer Garnitur aus tiefer Melancholie und purer Leb
 ensfreude. Über die Jahre hat \ner zwei EP's und zwei Alben veröffentlicht
  und über 2000 Auftritte gespielt\, u.a. im Vorprogramm von \nKünstlern wi
 e Ed Sheeran\, Tim Bendzko\, Elif\, Marlon Roudette\, Jarle Bernhoft\, Wal
 lis Bird\, Gloria und \nAlin Coen. Seine Konzerte sind ein Hochgenuss für 
 jeden\, der mit menschlichen Gefühlen etwas \nanfangen kann\, dem Gänsehau
 t nichts ausmacht und der nicht zu stolz ist\, die ein oder andere Träne 
 \nzu verdrücken.
DTSTART;TZID=Europe/Berlin:20260425T200000
DTEND;TZID=Europe/Berlin:20260425T223000
LOCATION:Kulturhaus Alter Schlachthof Soest\, Ulrichertor 4\, 59494 Soest\,
SUMMARY:Schlachthof_akustisch: Tom Klose (Änderung)
END:VEVENT
END:VCALENDAR
