BEGIN:VCALENDAR
VERSION:2.0
PRODID:-//172.22.3.23//NONSGML kigkonsult.se iCalcreator 2.39.1//
CALSCALE:GREGORIAN
UID:5182d020-daed-4a3b-8b60-cb854b70376a
X-WR-TIMEZONE:Europe/Berlin
X-WR-CALNAME:www.datefix.de
X-WR-CALDESC:www.datefix.de Veranstaltungskalender
BEGIN:VTIMEZONE
TZID:Europe/Berlin
BEGIN:STANDARD
TZNAME:CET
DTSTART:20251026T030000
TZOFFSETFROM:+0200
TZOFFSETTO:+0100
RDATE:20261025T030000
END:STANDARD
BEGIN:DAYLIGHT
TZNAME:CEST
DTSTART:20260329T020000
TZOFFSETFROM:+0100
TZOFFSETTO:+0200
RDATE:20270328T020000
END:DAYLIGHT
END:VTIMEZONE
BEGIN:VEVENT
UID:36b49746-e760-48b2-a1d4-d0991a5fd5e8
DTSTAMP:20260423T114118Z
DESCRIPTION:Bist du bereit. dich auf die Magie deines Atems einzulassen?<br
  /><br />\nDu musst keine besonderen Voraussetzungen mitbringen. Alles. wa
 s Du brauchst. ist bereits da.<br /><br />\nConscious Connected Breathwork
  (bewusste verbundene Atmung) ist eine transformative Atemtechnik. die dir
  hilft. tief in dein Unterbewusstsein einzutauchen und deine Grenzen deutl
 ich wahrzunehmen: sie hilft dir. besser für dich einzustehen und dir selbs
 t gegenüber ein neues Mitgefühl zu kultivieren. Durch die bewusste Verbind
 ung von Ein- und Ausatmung kommst du in eine wunderbare Verbindung mit dir
  selbst.<br /><br />\n<br /><br />\nConscious Connected Breathing (auch „v
 erbundener Atem“) ist eine Atemtechnik\, bei der Ein- und Ausatmung ohne P
 ause fließend miteinander verbunden werden. Durch den bewussten\, rhythmis
 chen Atem entsteht ein vertiefter Kontakt zum eigenen Körper\, zu Emotione
 n und inneren Prozessen. Die Methode kann Entspannung fördern\, emotionale
  Blockaden lösen und das Gefühl von Klarheit\, Weite und innerer Verbunden
 heit unterstützen.<br /><br />\n<br /><br />\nMelde dich gerne an!<br /><b
 r />\n0172 865 83 23<br /><br />\nM.kreul@breathwork-hamm.de
DTSTART;TZID=Europe/Berlin:20260423T180000
DTEND;TZID=Europe/Berlin:20260423T213000
LOCATION:Kayana - Dein Haus der Begegnung\, Berwicker Straße 26\, 59514 Wel
 ver\,
SUMMARY:Breathwork Session mit Marco
END:VEVENT
END:VCALENDAR
