BEGIN:VCALENDAR
VERSION:2.0
PRODID:-//172.22.3.23//NONSGML kigkonsult.se iCalcreator 2.39.1//
CALSCALE:GREGORIAN
UID:4ae6f88e-3153-429c-bca8-24b299de318f
X-WR-TIMEZONE:Europe/Berlin
X-WR-CALNAME:www.datefix.de
X-WR-CALDESC:www.datefix.de Veranstaltungskalender
BEGIN:VTIMEZONE
TZID:Europe/Berlin
BEGIN:STANDARD
TZNAME:CET
DTSTART:20251026T030000
TZOFFSETFROM:+0200
TZOFFSETTO:+0100
RDATE:20261025T030000
END:STANDARD
BEGIN:DAYLIGHT
TZNAME:CEST
DTSTART:20260329T020000
TZOFFSETFROM:+0100
TZOFFSETTO:+0200
RDATE:20270328T020000
END:DAYLIGHT
END:VTIMEZONE
BEGIN:VEVENT
UID:cb1fa3c1-5ca7-4d36-8bcc-116d0e0b78c6
DTSTAMP:20260420T135117Z
DESCRIPTION:In unserem 5-wöchigen Kurs erwartet dich ein energiegeladener E
 instieg in die Welt der Salsa Cubana. Ihr werdet euer Bewegungsrepertoire 
 erweitern\, Grundschrittvarianten sowie neue Figuren und Kombinationen erl
 ernen. \nUnser Unterricht ist locker und praxisnah\, kein klassischer Tanz
 schulunterricht. Du kannst dich mit Tanzpartner oder auch alleine anmelden
 .\n\nWir sind Javier und Karen\, leidenschaftliche Salsa-Tänzer seit über 
 10 Jahren und freuen uns darauf\, dich mit dem Salsa-Fieber anzustecken.\n
 \nEin weiterer Kurs ist ab dem 15. Juni in Planung. Infos und Kontakt unte
 r www.salsasoest.de\nPreise bitte auf der Webseite nachlesen.
DTSTART;TZID=Europe/Berlin:20260420T201500
DTEND;TZID=Europe/Berlin:20260420T211500
LOCATION:KulturQuartier - Spiegelraum\, Ulrichertor 4\, 59494 Soest\,
SUMMARY:Salsa Kurs für Anfänger mit Vorkenntnissen
END:VEVENT
END:VCALENDAR
