BEGIN:VCALENDAR
VERSION:2.0
PRODID:-//172.22.3.23//NONSGML kigkonsult.se iCalcreator 2.39.1//
CALSCALE:GREGORIAN
UID:e01c529a-44f2-42f1-a1a4-ec8d8167fad1
X-WR-TIMEZONE:Europe/Berlin
X-WR-CALNAME:www.datefix.de
X-WR-CALDESC:www.datefix.de Veranstaltungskalender
BEGIN:VTIMEZONE
TZID:Europe/Berlin
BEGIN:STANDARD
TZNAME:CET
DTSTART:20251026T030000
TZOFFSETFROM:+0200
TZOFFSETTO:+0100
RDATE:20261025T030000
END:STANDARD
BEGIN:DAYLIGHT
TZNAME:CEST
DTSTART:20250330T020000
TZOFFSETFROM:+0100
TZOFFSETTO:+0200
RDATE:20260329T020000
RDATE:20270328T020000
END:DAYLIGHT
END:VTIMEZONE
BEGIN:VEVENT
UID:90d73802-4f52-4071-bf14-6bb2b1a8dae0
DTSTAMP:20260422T091158Z
DESCRIPTION:Die Sommerferien fangen schlecht an: Erst regnet es in Strömen\
 , so dass die „Wilden Kerle“ gezwungen sind\, zu Hause Fußball zu spielen.
  Dabei geht einiges zu Bruch und zur Strafe bekommen die Kicker direkt zu 
 Ferienanfang Hausarrest und Fußballverbot. Schlimmer geht’s nicht? Doch! I
 hr Lieblingsplatz\, der Bolzplatz „Teufelstopf“\, wird vom Dicken Michi un
 d seiner Bande von üblen\, älteren Jungs\, den „Unbesiegbaren Siegern“\, b
 esetzt. Das war´s dann wohl mit dem Lieblingsbolzplatz. Doch dann hat Leon
  eine Idee und setzt sie todesmutig in die Tat um! Er schließt mit den „Un
 besiegbaren Siegern“ eine Wette ab: Bei einem Fußballspiel in 10 Tagen sol
 l entschieden werden\, wem der „Teufelstopf“ in Zukunft gehört und wer ver
 schwinden muss. Die Chancen stehen schlecht für die „Wilden Kerle“\, ein M
 atch gegen die gefährlichen Schlägertypen vom Dicken Michi unbeschadet zu 
 bestehen\, geschweige denn zu gewinnen. Selbst Platzwart Willi\, ein Ex-Pr
 ofifußballer\, sieht für die „Wilden Kerle“ kaum eine Chance\, erklärt sic
 h aber bereit ihnen beim Training zu helfen. Doch bevor das knallharte Tra
 iningsprogramm beginnen kann\, müssen die „Wilden Kerle“ erst das Problem 
 mit dem Fußballverbot aus der Welt räumen. Dies bleibt nicht das einzige P
 roblem - von nun an passiert eine Katastrophe nach der anderen.<br>Drama\,
  Abenteuer\, Komödie\, DE\, 2003\, 96Min. <br>Altersfreigabe: ab 0<br>Spra
 che: D<br>Darsteller: Rufus Beck\, Jimi Blue Ochsenknecht\, Wilson Ochsenk
 necht\, Uwe Ochsenknecht<br>Regie: Joachim Masannek<br>
DTSTART;TZID=Europe/Berlin:20260211T143000
DTEND;TZID=Europe/Berlin:20260211T173000
LOCATION:Schlachthofkino\, Ulrichertor 4\, 59494 Soest\,
SUMMARY:Die wilden Kerle 1
END:VEVENT
END:VCALENDAR
