BEGIN:VCALENDAR
VERSION:2.0
PRODID:-//172.22.3.23//NONSGML kigkonsult.se iCalcreator 2.39.1//
CALSCALE:GREGORIAN
UID:d6927973-01da-4f77-825a-b188de886c1a
X-WR-TIMEZONE:Europe/Berlin
X-WR-CALNAME:www.datefix.de
X-WR-CALDESC:www.datefix.de Veranstaltungskalender
BEGIN:VTIMEZONE
TZID:Europe/Berlin
BEGIN:STANDARD
TZNAME:CET
DTSTART:20251026T030000
TZOFFSETFROM:+0200
TZOFFSETTO:+0100
RDATE:20261025T030000
END:STANDARD
BEGIN:DAYLIGHT
TZNAME:CEST
DTSTART:20250330T020000
TZOFFSETFROM:+0100
TZOFFSETTO:+0200
RDATE:20260329T020000
RDATE:20270328T020000
END:DAYLIGHT
END:VTIMEZONE
BEGIN:VEVENT
UID:70029927-da07-4724-9b02-78387a6f5492
DTSTAMP:20260423T085755Z
DESCRIPTION:
DTSTART;TZID=Europe/Berlin:20260211T170000
DTEND;TZID=Europe/Berlin:20260211T200000
LOCATION:KulturQuartier - Kreativraum\, Ulrichertor 4\, 59494 Soest\,
SUMMARY:Stammtisch der Soester Tabletop und TCG Freunde
END:VEVENT
END:VCALENDAR
