BEGIN:VCALENDAR
VERSION:2.0
PRODID:-//172.22.3.23//NONSGML kigkonsult.se iCalcreator 2.39.1//
CALSCALE:GREGORIAN
UID:34e8c143-1139-42c5-aa68-57e47f8dcf2c
X-WR-TIMEZONE:Europe/Berlin
X-WR-CALNAME:www.datefix.de
X-WR-CALDESC:www.datefix.de Veranstaltungskalender
BEGIN:VTIMEZONE
TZID:Europe/Berlin
BEGIN:STANDARD
TZNAME:CET
DTSTART:20251026T030000
TZOFFSETFROM:+0200
TZOFFSETTO:+0100
RDATE:20261025T030000
END:STANDARD
BEGIN:DAYLIGHT
TZNAME:CEST
DTSTART:20250330T020000
TZOFFSETFROM:+0100
TZOFFSETTO:+0200
RDATE:20260329T020000
RDATE:20270328T020000
END:DAYLIGHT
END:VTIMEZONE
BEGIN:VEVENT
UID:aea5e811-1527-4352-8374-cb74c90a6e8e
DTSTAMP:20260421T163616Z
DESCRIPTION:Die ultimative Hommage an eine der populärsten Bands der Musikg
 eschichte. \n\nNach dem großen Erfolg der 2025er Tour: „Rumours of Fleetwo
 od Mac“ im Frühjahr 2026 erneut in Deutschland. \n\nDie Tournee 2025 war e
 in einziger Triumph und verzeichnete beeindruckende Erfolge. Viele der ins
 gesamt 19 Konzerte waren restlos ausverkauft\, mehrfach wurden Zusatztermi
 ne anberaumt\, um der großen Nachfrage zu entsprechen. „Rumours of Fleetwo
 od Mac“ begeisterten mit ihrer leidenschaftlichen Performance sowohl einge
 fleischte Fans als auch neue Zuhörer:innen. Der Show gelang es mühelos\, d
 ie Besucher:innen in die goldene Ära von Fleetwood Mac zurückzuversetzen u
 nd mit mehr als 25 Songs – neben den größten Hits und Klassikern auch eini
 ge weniger bekannte Perlen – musikalisch ein Tor zu Erinnerungen und Emoti
 onen der Fans zu öffnen. Da überrascht es kaum\, dass die Reaktionen des P
 ublikums geradezu euphorisch waren und viele von Gänsehautmomenten und ein
 er einmaligen Zeitreise sprachen. \n\n1969 verkauften Fleetwood Mac mehr S
 challplatten als die Beatles und die Rolling Stones. Ihr Album „Rumours“ a
 us dem Jahr 1977 gehört zu den erfolgreichsten Alben der Musikgeschichte u
 nd ging über 19 Millionen Mal über den Ladentisch – allein in den USA. Kei
 n Wunder\, dass sich eine solch riesige Fanbase um die durch häufige Wechs
 el in der Besetzung gezeichnete Band scharte. Und das bis heute! \n\nEine 
 Hommage an diese einzigartige Musikgruppe\, die den Zeitgeist der 1960er b
 is 1990er Jahre prägte\, bilden seit 1999 „Rumours of Fleetwood Mac“. Dies
 e Band\, bestehend aus sieben Musiker:innen\, eine Tribute Band zu nennen\
 , wäre aber definitiv zu kurz gegriffen. Mittlerweile haben ihre Live-Vide
 os auf YouTube über 100 Millionen Views erreicht\, und auch ihre Live-Show
 s begeisterten Millionen Fleetwood-Mac-Fans – auch in Deutschland. \n\nDie
  Presse zeigt sich beeindruckt: „Rumours of Fleetwood Mac begeistert die Z
 uschauer“\, lobt die Abendzeitung München. Die Dresdner Neuesten Nachricht
 en sprechen von „einer begeisternden Hommage“ an die Kultband. Das Hamburg
 er Abendblatt ergänzt: Dieses Konzert sei „Nahrung für die Seele“ und voll
 er „Hach-ist-das-schön-Momente“. Die Frankfurter Allgemeine Zeitung hebt h
 ervor: „Ein musikalisches Erlebnis\, das dem Original in nichts nachsteht“
 . Die Stuttgarter Nachrichten schreiben: „Eine mitreißende Darbietung\, di
 e das Publikum von der ersten bis zur letzten Minute fesselt“. Der Kölner 
 Stadt-Anzeiger betont: „Diese Show beweist eindrucksvoll\, warum Fleetwood
  Mac zu den einflussreichsten Bands aller Zeiten gehört“. \n\nIhre Liebe z
 ur Musik von Fleetwood Mac und das Vermögen\, eine ihren Vorbildern würdig
 e Show auf die Beine zu stellen\, hat sich schnell herumgesprochen – nicht
  nur bei ihren Fans\, die sie seit 26 Jahren bei ihren Auftritten rund um 
 den Erdball feiern: Längst haben „Rumours of Fleetwood Mac“ auch den offiz
 iellen Segen des Mitgründers und Schlagzeugers der Originalband\, Mick Fle
 etwood erhalten: „An extraordinary emotive performance of Fleetwood Mac“. 
 \n\nDas Tourmotto von „Rumours of Fleetwood Mac“ lautet „It’s About Their 
 Music“. In diesem Sinne performt die siebenköpfige Formation die Musik von
  Fleetwood Mac so originalgetreu wie möglich sowie mit dem gebührenden Res
 pekt und lässt vor allem den Spirit der weltweit gefeierten Band inklusive
  der damaligen Zeit wieder aufleben. Sie selbst sagen dazu: „These preciou
 s songs have been the soundtrack to many people’s lives the world over and
  we know that you hold them close. That stands true for us also.“\n \nWer 
 noch einmal live in die einzigartige Songwelt von Fleetwood Mac eintauchen
  möchte\, sollte die Gelegenheit am 26. Februar 2026 nicht verpassen.\n\nP
 räsentiert wird die Tour von Classic Rock\, eclipsed\, Goodtimes und kultu
 rnews.
DTSTART;TZID=Europe/Berlin:20260226T200000
DTEND;TZID=Europe/Berlin:20260226T230000
LOCATION:Stadthalle Soest\, Dasselwall 1\, 59494 Soest\,
SUMMARY:Rumours of Fleetwood Mac
END:VEVENT
END:VCALENDAR
