BEGIN:VCALENDAR
VERSION:2.0
PRODID:-//172.22.3.23//NONSGML kigkonsult.se iCalcreator 2.39.1//
CALSCALE:GREGORIAN
UID:1677d81c-0deb-463c-9f7f-be07e53134b2
X-WR-TIMEZONE:Europe/Berlin
X-WR-CALNAME:www.datefix.de
X-WR-CALDESC:www.datefix.de Veranstaltungskalender
BEGIN:VTIMEZONE
TZID:Europe/Berlin
BEGIN:STANDARD
TZNAME:CET
DTSTART:20231029T030000
TZOFFSETFROM:+0200
TZOFFSETTO:+0100
RDATE:20241027T030000
RDATE:20251026T030000
END:STANDARD
BEGIN:DAYLIGHT
TZNAME:CEST
DTSTART:20240331T020000
TZOFFSETFROM:+0100
TZOFFSETTO:+0200
RDATE:20250330T020000
END:DAYLIGHT
END:VTIMEZONE
BEGIN:VEVENT
UID:70f23a9d-1d87-4f25-bf60-7f7133d8c3f4
DTSTAMP:20260422T023705Z
DESCRIPTION:<br>
DTSTART;TZID=Europe/Berlin:20240815T180000
DTEND;TZID=Europe/Berlin:20240815T190000
LOCATION:Wiese Gemeindehaus\, Widumgasse 1\, 59494 Soest\,
SUMMARY:KiGoDi-VorbereitungsTeam
END:VEVENT
END:VCALENDAR
