BEGIN:VCALENDAR
VERSION:2.0
PRODID:-//172.22.3.23//NONSGML kigkonsult.se iCalcreator 2.39.1//
CALSCALE:GREGORIAN
UID:9d3ecc0c-78a6-45c3-a99d-f369a8753075
X-WR-TIMEZONE:Europe/Berlin
X-WR-CALNAME:www.datefix.de
X-WR-CALDESC:www.datefix.de Veranstaltungskalender
BEGIN:VTIMEZONE
TZID:Europe/Berlin
BEGIN:STANDARD
TZNAME:CET
DTSTART:20241027T030000
TZOFFSETFROM:+0200
TZOFFSETTO:+0100
RDATE:20251026T030000
END:STANDARD
BEGIN:DAYLIGHT
TZNAME:CEST
DTSTART:20240331T020000
TZOFFSETFROM:+0100
TZOFFSETTO:+0200
RDATE:20250330T020000
RDATE:20260329T020000
END:DAYLIGHT
END:VTIMEZONE
BEGIN:VEVENT
UID:286ccbb0-47c2-43ac-a1ac-a6d124524b96
DTSTAMP:20260422T171158Z
DESCRIPTION:Ernst Hutter verabschiedet sich 2025 als Leiter der Original Eg
 erländer Musikanten – und geht auf große Abschiedstournee mit mehr als 40 
 Konzerten.\n\n2025 markiert gleich zwei bedeutende Jubiläen für den Chef d
 er „Egerländer“: 25 Jahre lang wird Ernst Hutter dann an der Spitze des er
 folgreichsten Blasorchesters der Welt stehen\, ganze 40 Jahre trägt er im 
 kommenden Jahr die Egerländer Tracht. 2025 ist ein Jahr zum Feiern für Ern
 st Hutter – und das Jahr des Abschieds für den Mann\, der das Erbe der Ege
 rländer Musik wie kein Zweiter seit Ernst Mosch geprägt hat.\n\nIn einer e
 motionalen Videobotschaft hat Ernst Hutter nun verkündet\, dass er Abschie
 d nimmt von den Original Egerländer Musikanten. „Mein Finale“ – so lautet 
 das Tour-Motto\, das ihn und sein Orchester in mehr als 40 Städte in Deuts
 chland\, Österreich\, der Schweiz\, Belgien\, Frankreich und Holland führe
 n wird. Und dann wird\, wie immer auf den „Egerländer-Konzerten“\, emotion
 al verbunden gefeiert. „Ich freue mich darauf\, gemeinsam mit euch diese b
 esondere Reise anzutreten und unsere Musik noch einmal in vollen Zügen zu 
 genießen“\, so Ernst Hutter in seinem Video-Statement. Die Tourdaten stehe
 n bereits fest\, für viele Konzerte läuft bereits der Vorverkauf.\n\n1985 
 war es\, als der legendäre Ernst Mosch\, der Gründer der Original Egerländ
 er Musikanten und Wegbereiter des swingenden Egerländersounds\, den jungen
  Ernst Hutter in sein Orchester berufen hat. Dort wurde der Allgäuer Tenor
 hornspieler und Posaunist schnell zu einer zentralen Figur. Im Jahr 2000\,
  nach dem Tod von Ernst Mosch\, übernahm Ernst Hutter die Leitung der Eger
 länder Musikanten. „Diese Zeit wurde geprägt von unzähligen Erlebnissen\, 
 Herausforderungen und vor allem von der unvergesslichen Musik\, die wir ge
 meinsam geschaffen haben“\, erinnert sich Ernst Hutter rückblickend auf se
 ine fast 1000 Konzerte als Egerländer-Chef bis zum heutigen Tage. „Aber es
  gibt auch natürliche Grenzen. Und es war immer meine Vorstellung\, den Mo
 ment meines Abschieds selbstbestimmt zu wählen.“\n\nBevor Ernst Hutter den
  Staffelstab Ende 2025 weiterreicht\, ist die Vorfreude groß auf „Mein Fin
 ale“. „Es wird eine Zeit sein\, um zurückzublicken\, zu feiern\, zu lachen
 … und vielleicht auch die eine oder andere Träne zu vergießen“\, so Hutter
 . „Doch vor allem wird es eine Zeit des Dankes sein. Dank an euch\, meine 
 treuen Freunde und Wegbegleiter\, die mich über all die Jahre unterstützt 
 und inspiriert haben.“\n\nIn seinen Dank schließt der scheidende Egerlände
 r-Chef das treue Egerländer-Publikum und die vielen Partner*innen aus der 
 ganzen Event-Szene ebenso ein wie die Vielzahl „seiner“ Musikanten\, die i
 n den letzten Jahrzehnten als Original Egerländer aufgetreten sind. Die Ei
 nbindung junger Musiker mit Herz und Leidenschaft für die Egerländermusik 
 war und ist Ernst Hutter stets ein Anliegen. „Das ist entscheidend\, um di
 e Zukunft des Orchesters zu sichern. Die Begeisterung junger Menschen und 
 ihre frischen Ideen tragen dazu bei\, das Erbe des Orchesters aufrechtzuer
 halten und weiterzuentwickeln.“ In diesem Sinne möchte Ernst Hutter nach d
 er Abschiedstour 2025 auch die musikalische Leitung des Orchesters an die 
 nächste Generation übertragen. „Indem wir junge Talente ermutigen und förd
 ern\, geben wir ihnen nicht nur die Möglichkeit\, ihre eigenen kreativen I
 mpulse einzubringen\, sondern auch die Verantwortung\, unser musikalisches
  Erbe zu bewahren und neu zu interpretieren.“ \n\nDer neue musikalische Le
 iter steht bereits fest und wird am 8. Juni vorgestellt. Gewiss ist ebenfa
 lls\, dass das Familienunternehmen HutterMusic\, das als Label und Verlag 
 seit vielen Jahren verantwortlich für die Geschicke des Orchesters ist\, a
 uch nach Ernsts Finale in bewährter Manier das Management der Original Ege
 rländer Musikanten fortsetzen wird. \n\nNoch aber steht Ernst Hutter bei d
 en Original Egerländer Musikanten in der ersten Reihe. Und blickt angesich
 ts der anstehenden Abschiedstournee voll Vorfreude auf die kommenden Monat
 e. „'Ich möchte meine Freude für die 'Egerländer' noch einmal mit meinem P
 ublikum teilen. Ich möchte gleichzeitig ein Statement dafür abgeben\, dass
  unsere Musik zeitlos ist. Mit 'meinem Finale-Programm' möchte ich meine i
 dealistische Arbeit und meinen stets emotionalen Einsatz für unsere 'Band'
  und ihre große Geschichte zelebrieren und unterstreichen.'\n\nDanke\, Ern
 st Hutter!\n \nHinweis: Ersatzveranstaltung für die verschobene Veranstalt
 ung vom 19.03.2021 bzw. 25.11.2023. Bereits gekaufte Tickets behalten ihre
  Gültigkeit für den neuen Termin am 24.01.2025.
DTSTART;TZID=Europe/Berlin:20250124T200000
DTEND;TZID=Europe/Berlin:20250124T230000
LOCATION:Stadthalle Soest\, Dasselwall 1\, 59494 Soest\,
SUMMARY:Ernst Hutter & Die Egerländer Musikanten - Mein Finale - Die Abschi
 edstournee
END:VEVENT
END:VCALENDAR
